BEGIN:VCALENDAR
VERSION:2.0
PRODID:-// eRoom plugin //NONSGML v1.0//EN
CALSCALE:GREGORIAN
BEGIN:VEVENT
UID:eRoom-1776940660
SUMMARY:テストミーティング
LOCATION:Zoom
DESCRIPTION:テスト用のミーティングです\n\n---\n\nテストミ
 ティング is inviting you to a scheduled Zoom meeting.\n\nJoin Zoom M
 eeting\nhttps://zoom.us/j/91456226121?pwd=Und4d3RBdHZSUVBubGMxWVZ2d2JpUT09
 \n\nMeeting ID: 91456226121\n
URL;VALUE=URI:https://zoom.us/j/91456226121?pwd=Und4d3RBdHZSUVBubGMxWVZ2d2JpUT09
DTSTART:20210805T150000Z
DTEND:20210805T160000Z
DTSTAMP:20260423T103740Z
BEGIN:VALARM
ACTION:DISPLAY
DESCRIPTION:Reminder
TRIGGER;RELATED=START:-PT15M
END:VALARM
END:VEVENT
END:VCALENDAR